Workbook

Sheet SOLICITAR VACUUM
A1: RAZÃO SOCIAL:
A2: CNPJ:
A3: CONTATO:
A4: TELEFONE:
A5: E-MAIL:
A6: DATA:
A15: CODIGO | B15: DESCRIÇÃO | C15: QUANTIDADE | D15: VALOR UNITARIO | E15: VALOR DO PEDIDO | F15: QTD. COR | G15: CARGA POR COR | H15: CARGA TOTAL
A16: =IFERROR(VLOOKUP(B16,'BASE UTILIZADA'!$C:$I,7,0),"") -> 121613 | B16: ='BASE UTILIZADA'!C2 -> VACUUM BASE LIQUIDA ULTRA | D16: =IFERROR(VLOOKUP(A16,'BASE UTILIZADA'!$B:$D,3,0),"") -> 15.66 | E16: =IFERROR(D16*C16,"") -> 0 | F16: =IFERROR(VLOOKUP(A16,'BASE UTILIZADA'!$B:$E,4,0),"") -> 4 | G16: =IFERROR(VLOOKUP(A16,'BASE UTILIZADA'!$B:$F,5,0),"") -> 6 | H16: =IFERROR(VLOOKUP(A16,'BASE UTILIZADA'!$B:$G,6,0),"") -> 24
A17: =IFERROR(VLOOKUP(B17,'BASE UTILIZADA'!$C:$I,7,0),"") -> 126690 | B17: ='BASE UTILIZADA'!C3 -> VACUUM BATOM VEGANO DAILUS | D17: =IFERROR(VLOOKUP(A17,'BASE UTILIZADA'!$B:$D,3,0),"") -> 16.875 | E17: =IFERROR(D17*C17,"") -> 0 | F17: =IFERROR(VLOOKUP(A17,'BASE UTILIZADA'!$B:$E,4,0),"") -> 5 | G17: =IFERROR(VLOOKUP(A17,'BASE UTILIZADA'!$B:$F,5,0),"") -> 6 | H17: =IFERROR(VLOOKUP(A17,'BASE UTILIZADA'!$B:$G,6,0),"") -> 30
A18: =IFERROR(VLOOKUP(B18,'BASE UTILIZADA'!$C:$I,7,0),"") -> 137772 | B18: ='BASE UTILIZADA'!C4 -> VACUUM BATOM LIQUIDO DAILUS | D18: =IFERROR(VLOOKUP(A18,'BASE UTILIZADA'!$B:$D,3,0),"") -> 13.25 | E18: =IFERROR(D18*C18,"") -> 0 | F18: =IFERROR(VLOOKUP(A18,'BASE UTILIZADA'!$B:$E,4,0),"") -> 3 | G18: =IFERROR(VLOOKUP(A18,'BASE UTILIZADA'!$B:$F,5,0),"") -> 6 | H18: =IFERROR(VLOOKUP(A18,'BASE UTILIZADA'!$B:$G,6,0),"") -> 18
A19: =IFERROR(VLOOKUP(B19,'BASE UTILIZADA'!$C:$I,7,0),"") -> 137800 | B19: ='BASE UTILIZADA'!C5 -> VACUUM LIP GLITTER | D19: =IFERROR(VLOOKUP(A19,'BASE UTILIZADA'!$B:$D,3,0),"") -> 13.23 | E19: =IFERROR(D19*C19,"") -> 0 | F19: =IFERROR(VLOOKUP(A19,'BASE UTILIZADA'!$B:$E,4,0),"") -> 3 | G19: =IFERROR(VLOOKUP(A19,'BASE UTILIZADA'!$B:$F,5,0),"") -> 6 | H19: =IFERROR(VLOOKUP(A19,'BASE UTILIZADA'!$B:$G,6,0),"") -> 18
A20: =IFERROR(VLOOKUP(B20,'BASE UTILIZADA'!$C:$I,7,0),"") -> 126691 | B20: ='BASE UTILIZADA'!C6 -> VACUUM LAPISEIRA RETRATIL SOBRANCELHA | D20: =IFERROR(VLOOKUP(A20,'BASE UTILIZADA'!$B:$D,3,0),"") -> 18.09 | E20: =IFERROR(D20*C20,"") -> 0 | F20: =IFERROR(VLOOKUP(A20,'BASE UTILIZADA'!$B:$E,4,0),"") -> 3 | G20: =IFERROR(VLOOKUP(A20,'BASE UTILIZADA'!$B:$F,5,0),"") -> 12 | H20: =IFERROR(VLOOKUP(A20,'BASE UTILIZADA'!$B:$G,6,0),"") -> 36
A21: =IFERROR(VLOOKUP(B21,'BASE UTILIZADA'!$C:$I,7,0),"") -> 131635 | B21: ='BASE UTILIZADA'!C7 -> VACUUM LIP GLOSS INCOLOR | D21: =IFERROR(VLOOKUP(A21,'BASE UTILIZADA'!$B:$D,3,0),"") -> 15.66 | E21: =IFERROR(D21*C21,"") -> 0 | F21: =IFERROR(VLOOKUP(A21,'BASE UTILIZADA'!$B:$E,4,0),"") -> 1 | G21: =IFERROR(VLOOKUP(A21,'BASE UTILIZADA'!$B:$F,5,0),"") -> 12 | H21: =IFERROR(VLOOKUP(A21,'BASE UTILIZADA'!$B:$G,6,0),"") -> 12
A22: =IFERROR(VLOOKUP(B22,'BASE UTILIZADA'!$C:$I,7,0),"") -> 131679 | B22: ='BASE UTILIZADA'!C8 -> VACUUM LAPIS APONTAVEL ULTRA PRETO | D22: =IFERROR(VLOOKUP(A22,'BASE UTILIZADA'!$B:$D,3,0),"") -> 16.875 | E22: =IFERROR(D22*C22,"") -> 0 | F22: =IFERROR(VLOOKUP(A22,'BASE UTILIZADA'!$B:$E,4,0),"") -> 1 | G22: =IFERROR(VLOOKUP(A22,'BASE UTILIZADA'!$B:$F,5,0),"") -> 36 | H22: =IFERROR(VLOOKUP(A22,'BASE UTILIZADA'!$B:$G,6,0),"") -> 36
A23: =IFERROR(VLOOKUP(B23,'BASE UTILIZADA'!$C:$I,7,0),"") -> 137810 | B23: ='BASE UTILIZADA'!C9 -> VACUUM MASCARA PARA CILIOS DUO | D23: =IFERROR(VLOOKUP(A23,'BASE UTILIZADA'!$B:$D,3,0),"") -> 14.45 | E23: =IFERROR(D23*C23,"") -> 0 | F23: =IFERROR(VLOOKUP(A23,'BASE UTILIZADA'!$B:$E,4,0),"") -> 1 | G23: =IFERROR(VLOOKUP(A23,'BASE UTILIZADA'!$B:$F,5,0),"") -> 12 | H23: =IFERROR(VLOOKUP(A23,'BASE UTILIZADA'!$B:$G,6,0),"") -> 12
A24: =IFERROR(VLOOKUP(B24,'BASE UTILIZADA'!$C:$I,7,0),"") -> 131687 | B24: ='BASE UTILIZADA'!C10 -> VACUUM MASCARA CILIOS POWER | D24: =IFERROR(VLOOKUP(A24,'BASE UTILIZADA'!$B:$D,3,0),"") -> 13.23 | E24: =IFERROR(D24*C24,"") -> 0 | F24: =IFERROR(VLOOKUP(A24,'BASE UTILIZADA'!$B:$E,4,0),"") -> 1 | G24: =IFERROR(VLOOKUP(A24,'BASE UTILIZADA'!$B:$F,5,0),"") -> 12 | H24: =IFERROR(VLOOKUP(A24,'BASE UTILIZADA'!$B:$G,6,0),"") -> 12
A25: =IFERROR(VLOOKUP(B25,'BASE UTILIZADA'!$C:$I,7,0),"") -> 131721 | B25: ='BASE UTILIZADA'!C11 -> VACUUM BLUSH | D25: =IFERROR(VLOOKUP(A25,'BASE UTILIZADA'!$B:$D,3,0),"") -> 16.875 | E25: =IFERROR(D25*C25,"") -> 0 | F25: =IFERROR(VLOOKUP(A25,'BASE UTILIZADA'!$B:$E,4,0),"") -> 2 | G25: =IFERROR(VLOOKUP(A25,'BASE UTILIZADA'!$B:$F,5,0),"") -> 6 | H25: =IFERROR(VLOOKUP(A25,'BASE UTILIZADA'!$B:$G,6,0),"") -> 12
A26: =IFERROR(VLOOKUP(B26,'BASE UTILIZADA'!$C:$I,7,0),"") -> 131745 | B26: ='BASE UTILIZADA'!C12 -> VACUUM PÓ COMPACTO ULTRA FINO CX | D26: =IFERROR(VLOOKUP(A26,'BASE UTILIZADA'!$B:$D,3,0),"") -> 17.8335 | E26: =IFERROR(D26*C26,"") -> 0 | F26: =IFERROR(VLOOKUP(A26,'BASE UTILIZADA'!$B:$E,4,0),"") -> 4 | G26: =IFERROR(VLOOKUP(A26,'BASE UTILIZADA'!$B:$F,5,0),"") -> 6 | H26: =IFERROR(VLOOKUP(A26,'BASE UTILIZADA'!$B:$G,6,0),"") -> 24
A27: =IFERROR(VLOOKUP(B27,'BASE UTILIZADA'!$C:$I,7,0),"") -> 131746 | B27: ='BASE UTILIZADA'!C13 -> VACUUM CANETA DELINEADORA CX | D27: =IFERROR(VLOOKUP(A27,'BASE UTILIZADA'!$B:$D,3,0),"") -> 15.66 | E27: =IFERROR(D27*C27,"") -> 0 | F27: =IFERROR(VLOOKUP(A27,'BASE UTILIZADA'!$B:$E,4,0),"") -> 1 | G27: =IFERROR(VLOOKUP(A27,'BASE UTILIZADA'!$B:$F,5,0),"") -> 12 | H27: =IFERROR(VLOOKUP(A27,'BASE UTILIZADA'!$B:$G,6,0),"") -> 12
... A46: =IFERROR(VLOOKUP(B46,'BASE UTILIZADA'!$C:$I,7,0),"") -> 137849 | B46: ='BASE UTILIZADA'!C32 -> VACUUM SOMBRA LIQUIDA | D46: =IFERROR(VLOOKUP(A46,'BASE UTILIZADA'!$B:$D,3,0),"") -> 16.88 | E46: =IFERROR(D46*C46,"") -> 0 | F46: =IFERROR(VLOOKUP(A46,'BASE UTILIZADA'!$B:$E,4,0),"") -> 5 | G46: =IFERROR(VLOOKUP(A46,'BASE UTILIZADA'!$B:$F,5,0),"") -> 6 | H46: =IFERROR(VLOOKUP(A46,'BASE UTILIZADA'!$B:$G,6,0),"") -> 30
E47: =SUM(E16:E45) -> 0

Sheet BASE UTILIZADA
A1: STATUS | B1: COD. | C1: DESCRIÇÃO DE PRODUTO | D1: PREÇO | E1: QTD. COR | F1: CARGA POR COR | G1: CARGA TOTAL | H1: MEDIDAS | I1: COD.
A2: ATIVO | B2: 121613 | C2: VACUUM BASE LIQUIDA ULTRA | D2: 15.66 | E2: 4 | F2: 6 | G2: 24 | H2: 3,5 ALTURA\18 LARGURA\24,5 PROFUNDIDADE | I2: 121613
A3: ATIVO | B3: 126690 | C3: VACUUM BATOM VEGANO DAILUS | D3: 16.875 | E3: 5 | F3: 6 | G3: 30 | H3: 3,5 ALTURA\14 LARGURA\21 PROFUNDIDADE | I3: 126690
A4: ATIVO | B4: 137772 | C4: VACUUM BATOM LIQUIDO DAILUS | D4: 13.25 | E4: 3 | F4: 6 | G4: 18 | H4: 3,5 ALTURA\10 LARGURA\20 PROFUNDIDADE | I4: 137772
A5: ATIVO | B5: 137800 | C5: VACUUM LIP GLITTER | D5: 13.23 | E5: 3 | F5: 6 | G5: 18 | H5: 3,5 ALTURA\10,5 LARGURA\23 PROFUNDIDADE | I5: 137800
A6: ATIVO | B6: 126691 | C6: VACUUM LAPISEIRA RETRATIL SOBRANCELHA | D6: 18.09 | E6: 3 | F6: 12 | G6: 36 | H6: 3,5 ALTURA\10 LARGURA\17,5 PROFUNDIDADE | I6: 126691
A7: ATIVO | B7: 131635 | C7: VACUUM LIP GLOSS INCOLOR | D7: 15.66 | E7: 1 | F7: 12 | G7: 12 | H7: 3,5 ALTURA\6,5 LARGURA\20 PROFUNDIDADE | I7: 131635
A8: ATIVO | B8: 131679 | C8: VACUUM LAPIS APONTAVEL ULTRA PRETO | D8: 16.875 | E8: 1 | F8: 36 | G8: 36 | H8: 3,5 ALTURA\14,5 LARGURA\16,5 PROFUNDIDADE | I8: 131679
A9: ATIVO | B9: 137810 | C9: VACUUM MASCARA PARA CILIOS DUO | D9: 14.45 | E9: 1 | F9: 12 | G9: 12 | H9: 3,5 ALTURA\7,5 LARGURA\17,5 PROFUNDIDADE | I9: 137810
A10: ATIVO | B10: 131687 | C10: VACUUM MASCARA CILIOS POWER | D10: 13.23 | E10: 1 | F10: 12 | G10: 12 | H10: 3,5 ALTURA\10 LARGURA\18 PROFUNDIDADE | I10: 131687
A11: ATIVO | B11: 131721 | C11: VACUUM BLUSH | D11: 16.875 | E11: 2 | F11: 6 | G11: 12 | H11: 3,5 ALTURA\15,5 LARGURA\19 PROFUNDIDADE | I11: 131721
A12: ATIVO | B12: 131745 | C12: VACUUM PÓ COMPACTO ULTRA FINO CX | D12: 17.8335 | E12: 4 | F12: 6 | G12: 24 | H12: 3,5 ALTURA\34,5 LARGURA\21,5 PROFUNDIDADE | I12: 131745
A13: ATIVO | B13: 131746 | C13: VACUUM CANETA DELINEADORA CX | D13: 15.66 | E13: 1 | F13: 12 | G13: 12 | H13: 3,5 ALTURA\6,5 LARGURA\17,5 PROFUNDIDADE | I13: 131746
... A30: ATIVO | B30: 137857 | C30: VACUUM BLUSH STICK | D30: 10.8 | E30: 2 | F30: 6 | G30: 12 | H30: 3,5 ALTURA\8 LARGURA\21,4 PROFUNDIDADE | I30: 137857
A31: ATIVO | B31: 137841 | C31: VACUUM BASE FIX | D31: 15.66 | E31: 4 | F31: 6 | G31: =E31*F31 -> 24 | H31: 3,5 ALTURA\27 LARGURA\23,3 PROFUNDIDADE | I31: 137841
A32: ATIVO | B32: 137849 | C32: VACUUM SOMBRA LIQUIDA | D32: 16.88 | E32: 5 | F32: 6 | G32: =E32*F32 -> 30 | H32: 3,5 ALTURA\17 LARGURA\24 PROFUNDIDADE | I32: 137849
